BEGIN:VCALENDAR
VERSION:2.0
PRODID:-//jEvents 2.0 for Joomla//EN
CALSCALE:GREGORIAN
METHOD:PUBLISH
BEGIN:VTIMEZONE
TZID:Europe/Berlin
BEGIN:STANDARD
DTSTART:20191118T000000
RDATE:20200329T030000
TZOFFSETFROM:+0200
TZOFFSETTO:+0100
TZNAME:Europe/Berlin CET
END:STANDARD
BEGIN:STANDARD
DTSTART:20201025T020000
RDATE:20210328T030000
TZOFFSETFROM:+0200
TZOFFSETTO:+0100
TZNAME:Europe/Berlin CET
END:STANDARD
BEGIN:STANDARD
DTSTART:20211031T020000
RDATE:20220327T030000
TZOFFSETFROM:+0200
TZOFFSETTO:+0100
TZNAME:Europe/Berlin CET
END:STANDARD
BEGIN:STANDARD
DTSTART:20221030T020000
RDATE:20230326T030000
TZOFFSETFROM:+0200
TZOFFSETTO:+0100
TZNAME:Europe/Berlin CET
END:STANDARD
BEGIN:STANDARD
DTSTART:20231029T020000
RDATE:20240331T030000
TZOFFSETFROM:+0200
TZOFFSETTO:+0100
TZNAME:Europe/Berlin CET
END:STANDARD
BEGIN:STANDARD
DTSTART:20241027T020000
RDATE:20250330T030000
TZOFFSETFROM:+0200
TZOFFSETTO:+0100
TZNAME:Europe/Berlin CET
END:STANDARD
BEGIN:STANDARD
DTSTART:20251026T020000
RDATE:20260329T030000
TZOFFSETFROM:+0200
TZOFFSETTO:+0100
TZNAME:Europe/Berlin CET
END:STANDARD
BEGIN:DAYLIGHT
DTSTART:20200329T030000
RDATE:20201025T020000
TZOFFSETFROM:+0100
TZOFFSETTO:+0200
TZNAME:Europe/Berlin CEST
END:DAYLIGHT
BEGIN:DAYLIGHT
DTSTART:20210328T030000
RDATE:20211031T020000
TZOFFSETFROM:+0100
TZOFFSETTO:+0200
TZNAME:Europe/Berlin CEST
END:DAYLIGHT
BEGIN:DAYLIGHT
DTSTART:20220327T030000
RDATE:20221030T020000
TZOFFSETFROM:+0100
TZOFFSETTO:+0200
TZNAME:Europe/Berlin CEST
END:DAYLIGHT
BEGIN:DAYLIGHT
DTSTART:20230326T030000
RDATE:20231029T020000
TZOFFSETFROM:+0100
TZOFFSETTO:+0200
TZNAME:Europe/Berlin CEST
END:DAYLIGHT
BEGIN:DAYLIGHT
DTSTART:20240331T030000
RDATE:20241027T020000
TZOFFSETFROM:+0100
TZOFFSETTO:+0200
TZNAME:Europe/Berlin CEST
END:DAYLIGHT
BEGIN:DAYLIGHT
DTSTART:20250330T030000
RDATE:20251026T020000
TZOFFSETFROM:+0100
TZOFFSETTO:+0200
TZNAME:Europe/Berlin CEST
END:DAYLIGHT
END:VTIMEZONE
BEGIN:VEVENT
UID:8aaaf3a3c7730e79f6e024999d9120c5
CATEGORIES:Produktmanagement
CREATED:19700101T010000
SUMMARY:Project Leadership - Vom traditionellen Projekt 'Management' zu Project Leadership
LOCATION:Online-Training
DESCRIPTION:\n\n3 Tages-Online-Kurs (Englisch/Deutsch)\n\n \nVor Jahren veröffentlichte
  das Harvard Business Review einen Artikel zum Thema, warum so viele gute P
 rojekte scheitern. Als Gründe wurden genannt:\n	\n - Fehlender Teamgeist	\n
  - Schwache Kommunikation	\n - Unklare Führung und Verantwortung
Jeder Proj
 ekt Manager und Geschäftsführer kann hiervon bestimmt das eine oder andere 
 Lied singen: Projekte werden genehmigt, Budgets zur Verfügung gestellt, ein
  Team zusammengestellt, trotzdem scheitern auch Projekte, die von allen Bet
 eiligten als dringend notwendig gesehen werden.\n\nZiele und Inhalte dieses
  Kurses\nZiel dieses Kurses ist es, ein genehmigtes Projekt von Anfang an s
 o aufzusetzen, dass sich das Team strukturiert und mit sehr geringem admini
 strativem Aufwand auf Inhalte und Steuerung des Projektes konzentrieren kan
 n.\nDieser Kurs ist in 3 Blöcken aufgebaut, mit der Option der weiteren Pro
 jektbegleitung.\nBlock 3 - Grundlagen des Projekt Managements und des Proje
 ct Leaderships – Get set up\n	\n - Grundlagen Projekt Management versus Pro
 ject Leadership	\n - Erstellung eines konkreten Projektauftrages – Klärung 
 der Ziele	\n - Erarbeitung eines Meilensteinplanes (auch für agile Projekte
  empfehlen wir die Erarbeitung eines Meilensteinplanes, da ohne Baseline ke
 in steuern möglich ist)	\n - Dokumentation von Entscheidungsbedarfen und er
 sten potentiellen Risiken
Block 2 - Grundlagen des Projekt Managements und 
 des Project Leaderships – Take over responsibility\n	\n - Anpassung des Pro
 jektauftrages zur finalen Abstimmung	\n - Anpassung des Meilensteinplanes z
 ur finalen Abstimmung	\n - Aufbau eines konsistenten Reportings	\n - Durchf
 ührung von Stakeholder Analysen und Aufbau des Stakeholder Managements
Bloc
 k 3 - Grundlagen des Projekt Managements und des Project Leaderships – Sail
  away\n	\n - Grundlagen Leadership and Change Management	\n - Durchführung 
 von Risiko Analysen und Erstellung des Risikomanagements	\n - Erstellung ei
 nes Kommunikationsplans
Optional können noch zwei weitere Tage vereinbart w
 erden, um das Projekt weiter zu unterstützen.\n\nZielgruppe\nDieser Kurs is
 t geeignet für Projekt Manager und Projekt Team und Führungskräfte, die ein
 e Projekt Leadership Organisation führen oder aufbauen.\n \nZeitlicher Abla
 uf\nIdealerweise liegen zwischen den jeweiligen Blöcken 1-2 Wochen Zeit, so
 dass die Projektmitglieder sich mit ihren Auftraggebern abstimmen und der K
 ursleiter interaktiv auf die spezifischen Ergebnisse eingehen kann.\n\nMeth
 oden\nNeben fachlichen Kurzimpulsen werden wir gemeinsam an Ihrer konkreten
  Rolle als Produktmanager in Ihrem Unternehmen arbeiten. Hierzu werden wir 
 mit Selbstreflektionen und in Gruppenarbeiten die behandelten Themen des Se
 minars an ihren eigenen Märkten und Aufgaben reflektieren und Ansatzpunkte 
 für Ihre ganz persönliche Weiterentwicklung als Produktmanager erarbeiten.\
 n\nIhr Trainer\nWolfgang Steininger (https://www.marketingconsult.de/untern
 ehmen/unser-team/85-wolfgang-steininger)\nManagement Berater und Privatdoze
 nt für Project Leadership\n\nVeranstaltungsort &amp; Technische Hinweise\nD
 as Training wird auf der Plattform Zoom stattfinden. Sie erhalten nach der 
 Anmeldung einen Einwahllink mit weiteren Informationen. Für die Teilnahme a
 m Seminar benötigen Sie ein Headset als Mikrofon, eine Webkamera (interne P
 C- oder externe Web-Kamera) sowie eine einigermaßen stabile Internetverbind
 ung. Wenn Sie am Seminar in Ihrem Unternehmen teilnehmen, dann suchen Sie s
 ich bitte für diesen Tag einen ruhigen (Konferenz-)Raum. \n\nTermin &amp; Z
 eiten \n\nAuf Anfrage\n09:00 – 12:30 Uhr und 14:00 – 17:00 Uhr inkl. Zwisch
 enpausen\n \n\nGruppengröße \nDas Training ist als exklusives Intensivsemin
 ar mit einer Gruppengröße bis 18 Personen geplant. Idealerweise 2 Gruppen m
 it je 9 Teilnehmern, die an zwei unterschiedlichen Projekten arbeiten.\n\nS
 eminarunterlagen\nDigital erhalten Sie vor dem Kurs die Seminarunterlagen, 
 mit denen wir im Seminar arbeiten werden. \n\nIhre Investition\nAuf Anfrage
 .\nIm Seminarpreis sind umfangreiche Unterlagen enthalten. Der Preis verste
 ht sich pro Teilnehmer. Bei Interesse an einem Inhouse Training oder mehrer
 en Teilnehmern sprechen Sie uns bitte an. Die Seminarplätze werden nach der
  Reihenfolge der Eingänge vergeben. Es gelten unsere Allgemeinen Geschäftsb
 edingungen.\n \nAnmeldung und weitere Informationen (images/Anmeldungen/202
 0FlyerPMLeadership.pdf)
X-ALT-DESC;FMTTYPE=text/html:<p><span style="color:#FF0000;"><span style="font-size: 14px;"></span></spa
 n></p><p><span style="color:#FF0000;"><span style="font-size:14px;"></span>
 </span></p><p><strong>3 Tages-Online-Kurs (Englisch/Deutsch)</strong></p><p
 ><strong><span style="font-size:14px;"></span></strong></p><p>&nbsp;</p><p>
 <span style="font-size:14px;">Vor Jahren veröffentlichte das Harvard Busine
 ss Review einen Artikel zum Thema, warum so viele gute Projekte scheitern. 
 Als Gründe wurden genannt:</span></p><ul>	<li><span style="font-size:14px;"
 >Fehlender Teamgeist</span></li>	<li><span style="font-size:14px;">Schwache
  Kommunikation</span></li>	<li><span style="font-size:14px;">Unklare Führun
 g und Verantwortung</span></li></ul><p><span style="font-size:14px;">Jeder 
 Projekt Manager und Geschäftsführer kann hiervon bestimmt das eine oder and
 ere Lied singen: Projekte werden genehmigt, Budgets zur Verfügung gestellt,
  ein Team zusammengestellt, trotzdem scheitern auch Projekte, die von allen
  Beteiligten als dringend notwendig gesehen werden.</span></p><p><span styl
 e="font-size:14px;"></span><br /><span style="color:#FF0000;"><span style="
 font-size:14px;"><strong>Ziele und Inhalte dieses Kurses</strong></span></s
 pan></p><p><span style="font-size:14px;">Ziel dieses Kurses ist es, ein gen
 ehmigtes Projekt von Anfang an so aufzusetzen, dass sich das Team strukturi
 ert und mit sehr geringem administrativem Aufwand auf Inhalte und Steuerung
  des Projektes konzentrieren kann.</span></p><p><span style="font-size:14px
 ;">Dieser Kurs ist in 3 Blöcken aufgebaut, mit der Option der weiteren Proj
 ektbegleitung.</span></p><p><span style="font-size:14px;"><strong>Block 3 -
  Grundlagen des Projekt Managements und des Project Leaderships – Get set u
 p</strong></span></p><ul>	<li><span style="font-size:14px;">Grundlagen Proj
 ekt Management versus Project Leadership</span></li>	<li><span style="font-
 size:14px;">Erstellung eines konkreten Projektauftrages – Klärung der Ziele
 </span></li>	<li><span style="font-size:14px;">Erarbeitung eines Meilenstei
 nplanes (auch für agile Projekte empfehlen wir die Erarbeitung eines Meilen
 steinplanes, da ohne Baseline kein steuern möglich ist)</span></li>	<li><sp
 an style="font-size:14px;">Dokumentation von Entscheidungsbedarfen und erst
 en potentiellen Risiken</span></li></ul><p><span style="font-size:14px;"><s
 trong>Block 2 - Grundlagen des Projekt Managements und des Project Leadersh
 ips – Take over responsibility</strong></span></p><ul>	<li><span style="fon
 t-size:14px;">Anpassung des Projektauftrages zur finalen Abstimmung</span><
 /li>	<li><span style="font-size:14px;">Anpassung des Meilensteinplanes zur 
 finalen Abstimmung</span></li>	<li><span style="font-size:14px;">Aufbau ein
 es konsistenten Reportings</span></li>	<li><span style="font-size:14px;">Du
 rchführung von Stakeholder Analysen und Aufbau des Stakeholder Managements<
 /span></li></ul><p><span style="font-size:14px;"><strong>Block 3 - Grundlag
 en des Projekt Managements und des Project Leaderships – Sail away</strong>
 </span></p><ul>	<li><span style="font-size:14px;">Grundlagen Leadership and
  Change Management</span></li>	<li><span style="font-size:14px;">Durchführu
 ng von Risiko Analysen und Erstellung des Risikomanagements</span></li>	<li
 ><span style="font-size:14px;">Erstellung eines Kommunikationsplans</span><
 /li></ul><p><span style="font-size:14px;">Optional können noch zwei weitere
  Tage vereinbart werden, um das Projekt weiter zu unterstützen.</span></p><
 p><span style="font-size:14px;"><strong><span style="color:#FF0000;"><br />
 Zielgruppe</span></strong></span></p><p><span style="font-size:14px;">Diese
 r Kurs ist geeignet für Projekt Manager und Projekt Team und Führungskräfte
 , die eine Projekt Leadership Organisation führen oder aufbauen.</span></p>
 <p>&nbsp;</p><p><span style="color:#FF0000;"><span style="font-size:14px;">
 <strong>Zeitlicher Ablauf</strong></span></span></p><p><span style="font-si
 ze:14px;">Idealerweise liegen zwischen den jeweiligen Blöcken 1-2 Wochen Ze
 it, sodass die Projektmitglieder sich mit ihren Auftraggebern abstimmen und
  der Kursleiter interaktiv auf die spezifischen Ergebnisse eingehen kann.</
 span></p><p><span style="font-size:14px;"></span><br /><span style="font-si
 ze:14px;"></span><span style="color:#FF0000;"><span style="font-size:14px;"
 ><strong>Methoden</strong></span></span></p><p><span style="font-size:14px;
 ">Neben fachlichen Kurzimpulsen werden wir gemeinsam an Ihrer konkreten Rol
 le als Produktmanager in Ihrem Unternehmen arbeiten. Hierzu werden wir mit 
 Selbstreflektionen und in Gruppenarbeiten die behandelten Themen des Semina
 rs an ihren eigenen Märkten und Aufgaben reflektieren und Ansatzpunkte für 
 Ihre ganz persönliche Weiterentwicklung als Produktmanager erarbeiten.</spa
 n><span style="font-size:14px;"></span></p><p><span style="color:#FF0000;">
 <span style="font-size: 14px;"><br /><strong>Ihr Trainer</strong></span></s
 pan></p><p><span style="font-size:14px;"><a href="https://www.marketingcons
 ult.de/unternehmen/unser-team/85-wolfgang-steininger" title="wolfgang stein
 inger">Wolfgang Steininger</a><br />Management Berater und Privatdozent für
  Project Leadership</span></p><p><span style="font-size:14px;"></span><br /
 ><span style="font-size:14px;"><span style="color:#FF0000;"><strong>Veranst
 altungsort &amp; Technische Hinweise</strong></span></span></p><p><span sty
 le="font-size:14px;">Das Training wird auf der Plattform Zoom stattfinden. 
 Sie erhalten nach der Anmeldung einen Einwahllink mit weiteren Informatione
 n. Für die Teilnahme am Seminar benötigen Sie ein Headset als Mikrofon, ein
 e Webkamera (interne PC- oder externe Web-Kamera) sowie eine einigermaßen s
 tabile Internetverbindung. Wenn Sie am Seminar in Ihrem Unternehmen teilneh
 men, dann suchen Sie sich bitte für diesen Tag einen ruhigen (Konferenz-)Ra
 um.&nbsp;</span></p><p><span style="font-size:14px;"></span><br /><span sty
 le="font-size:14px;"></span><span style="color:#FF0000;"><span style="font-
 size:14px;"><strong>Termin &amp; Zeiten&nbsp;</strong></span></span></p><p>
 <span style="font-size:14px;"></span></p><p><span style="font-size:14px;">A
 uf Anfrage<br />09:00 – 12:30 Uhr und 14:00 – 17:00 Uhr inkl. Zwischenpause
 n</span><br />&nbsp;</p><p><span style="font-size:14px;"></span></p><p><spa
 n style="color:#FF0000;"><span style="font-size:14px;"><strong>Gruppengröße
 &nbsp;</strong></span></span></p><p><span style="font-size:14px;">Das Train
 ing ist als exklusives Intensivseminar mit einer Gruppengröße bis 18 Person
 en geplant. Idealerweise 2 Gruppen mit je 9 Teilnehmern, die an zwei unters
 chiedlichen Projekten arbeiten.</span></p><p><span style="color:#FF0000;"><
 span style="font-size:14px;"><br /><strong>Seminarunterlagen</strong></span
 ></span></p><p><span style="font-size:14px;">Digital erhalten Sie vor dem K
 urs die Seminarunterlagen, mit denen wir im Seminar arbeiten werden.&nbsp;<
 /span></p><p><span style="color:#FF0000;"><span style="font-size: 14px;"><b
 r /><strong>Ihre Investition</strong></span></span></p><p><span style="font
 -size:14px;">Auf Anfrage.<br />Im Seminarpreis sind umfangreiche Unterlagen
  enthalten. Der Preis versteht sich pro Teilnehmer. Bei Interesse an einem 
 Inhouse Training oder mehreren Teilnehmern sprechen Sie uns bitte an. Die S
 eminarplätze werden nach der Reihenfolge der Eingänge vergeben. Es gelten u
 nsere Allgemeinen Geschäftsbedingungen.</span><span style="font-size:14px;"
 ></span><span style="font-size:14px;"></span></p><p>&nbsp;</p><h4 class="at
 tachmenttip-jck"><span style="font-size:14px;"><a href="https://www.marketi
 ngconsult.de/images/Anmeldungen/2020FlyerPMLeadership.pdf" title="">Anmeldu
 ng und weitere Informationen</a></span></h4>
CONTACT:Johann S. Schmid
DTSTAMP:20260421T234056
DTSTART;TZID=Europe/Berlin;VALUE=DATE:20201118
DTEND;TZID=Europe/Berlin;VALUE=DATE:20201119
SEQUENCE:0
TRANSP:OPAQUE
END:VEVENT
END:VCALENDAR